BEGIN:VCALENDAR
PRODID:PlannerXE123
VERSION:2.0
CALSCALE:GREGORIAN
METHOD:PUBLISH
BEGIN:VEVENT
DTSTART:20210227
DTEND:20210228
DTSTAMP:20260420T125140Z
UID:(thehamwith.kr_404)
CREATED:20260420T125140Z
DESCRIPTION:사단법인 더함위드 2022년 정기 총회 날입니다.\n\n<a href="http://thehamwith.kr/board_UUqF55/404?document_srl=404&document_srl=404">원본일정</a>
LOCATION:
SEQUENCE:1
STATUS:CONFIRMED
SUMMARY:2021년 법인 정기 총회
TRANSP:TRANSPARENT
END:VEVENT
END:VCALENDAR
