BEGIN:VCALENDAR
PRODID:PlannerXE123
VERSION:2.0
CALSCALE:GREGORIAN
METHOD:PUBLISH
BEGIN:VEVENT
DTSTART:20221002
DTEND:20221003
DTSTAMP:20260420T093856Z
UID:(thehamwith.kr_410)
CREATED:20260420T093856Z
DESCRIPTION:2022년 사단법인 더함위드 임시총회 날입니다.\n\n<a href="http://thehamwith.kr/board_UUqF55/410?document_srl=410&document_srl=410">원본일정</a>
LOCATION:
SEQUENCE:1
STATUS:CONFIRMED
SUMMARY:2022년 법인 임시 총회
TRANSP:TRANSPARENT
END:VEVENT
END:VCALENDAR
