BEGIN:VCALENDAR
PRODID:PlannerXE123
VERSION:2.0
CALSCALE:GREGORIAN
METHOD:PUBLISH
BEGIN:VEVENT
DTSTART:20221210
DTEND:20221211
DTSTAMP:20260420T081456Z
UID:(thehamwith.kr_560)
CREATED:20260420T081456Z
DESCRIPTION:2022년 법인 임시 이사회 날입니다.\n\n<a href="http://thehamwith.kr/board_UUqF55/560?document_srl=560&document_srl=560">원본일정</a>
LOCATION:
SEQUENCE:1
STATUS:CONFIRMED
SUMMARY:2022년 법인 임시 이사회
TRANSP:TRANSPARENT
END:VEVENT
END:VCALENDAR
