BEGIN:VCALENDAR
PRODID:PlannerXE123
VERSION:2.0
CALSCALE:GREGORIAN
METHOD:PUBLISH
BEGIN:VEVENT
DTSTART:20210514
DTEND:20210515
DTSTAMP:20260420T125136Z
UID:(thehamwith.kr_396)
CREATED:20260420T125136Z
DESCRIPTION:사단법인 더함위드의 공식 홈페이지를 개설했습니다.\n\n<a href="http://thehamwith.kr/board_UUqF55/396?device=big_size&document_srl=396">원본일정</a>
LOCATION:
SEQUENCE:1
STATUS:CONFIRMED
SUMMARY:공식 홈페이지 개설
TRANSP:TRANSPARENT
END:VEVENT
END:VCALENDAR
