BEGIN:VCALENDAR
PRODID:PlannerXE123
VERSION:2.0
CALSCALE:GREGORIAN
METHOD:PUBLISH
BEGIN:VEVENT
DTSTART:20220227
DTEND:20220228
DTSTAMP:20260420T082305Z
UID:(thehamwith.kr_398)
CREATED:20260420T082305Z
DESCRIPTION:사단법인 더함위드 2022년 정기총회 날입니다.\n\n<a href="http://thehamwith.kr/board_UUqF55/398?iCal=ics_event&document_srl=398">원본일정</a>
LOCATION:
SEQUENCE:1
STATUS:CONFIRMED
SUMMARY:2022년 법인 정기 총회
TRANSP:TRANSPARENT
END:VEVENT
END:VCALENDAR
