BEGIN:VCALENDAR
PRODID:PlannerXE123
VERSION:2.0
CALSCALE:GREGORIAN
METHOD:PUBLISH
BEGIN:VEVENT
DTSTART:20210220
DTEND:20210221
DTSTAMP:20260420T125137Z
UID:(thehamwith.kr_400)
CREATED:20260420T125137Z
DESCRIPTION:사단법인 더함위드 2022년 임시 이사회 날입니다.\n\n<a href="http://thehamwith.kr/board_UUqF55/400?device=big_size&document_srl=400">원본일정</a>
LOCATION:
SEQUENCE:1
STATUS:CONFIRMED
SUMMARY:2022년 법인 임시 이사회
TRANSP:TRANSPARENT
END:VEVENT
END:VCALENDAR
