BEGIN:VCALENDAR
PRODID:PlannerXE123
VERSION:2.0
CALSCALE:GREGORIAN
METHOD:PUBLISH
BEGIN:VEVENT
DTSTART:20220212
DTEND:20220213
DTSTAMP:20260420T093820Z
UID:(thehamwith.kr_406)
CREATED:20260420T093820Z
DESCRIPTION:사단법인 더함위드 2022년 정기 이사회 날입니다.\n\n<a href="http://thehamwith.kr/board_UUqF55/406?device=big_size&document_srl=406">원본일정</a>
LOCATION:
SEQUENCE:1
STATUS:CONFIRMED
SUMMARY:2022년 법인 정기 이사회
TRANSP:TRANSPARENT
END:VEVENT
END:VCALENDAR
