BEGIN:VCALENDAR
PRODID:PlannerXE123
VERSION:2.0
CALSCALE:GREGORIAN
METHOD:PUBLISH
BEGIN:VEVENT
DTSTART:20220924
DTEND:20220925
DTSTAMP:20260420T082306Z
UID:(thehamwith.kr_412)
CREATED:20260420T082306Z
DESCRIPTION:2022년 사단법인 더함위드 임시 이사회 날입니다.\n\n<a href="http://thehamwith.kr/board_UUqF55/412?iCal=ics_event&document_srl=412">원본일정</a>
LOCATION:
SEQUENCE:1
STATUS:CONFIRMED
SUMMARY:2022년 법인 임시 이사회
TRANSP:TRANSPARENT
END:VEVENT
END:VCALENDAR
