BEGIN:VCALENDAR
PRODID:PlannerXE123
VERSION:2.0
CALSCALE:GREGORIAN
METHOD:PUBLISH
BEGIN:VEVENT
DTSTART:20231021
DTEND:20231022
DTSTAMP:20260420T062953Z
UID:(thehamwith.kr_554)
CREATED:20260420T062953Z
DESCRIPTION:2023년 법인 임시 이사회 날입니다.\n\n<a href="http://thehamwith.kr/board_UUqF55/554?device=big_size&document_srl=554">원본일정</a>
LOCATION:
SEQUENCE:1
STATUS:CONFIRMED
SUMMARY:2023년 법인 임시 이사회
TRANSP:TRANSPARENT
END:VEVENT
END:VCALENDAR
