BEGIN:VCALENDAR
PRODID:PlannerXE123
VERSION:2.0
CALSCALE:GREGORIAN
METHOD:PUBLISH
BEGIN:VEVENT
DTSTART:20230218
DTEND:20230219
DTSTAMP:20260420T050831Z
UID:(thehamwith.kr_556)
CREATED:20260420T050831Z
DESCRIPTION:2023년 법인 정기 총회 날입니다.\n\n<a href="http://thehamwith.kr/board_UUqF55/556?iCal=ics_event&document_srl=556">원본일정</a>
LOCATION:
SEQUENCE:1
STATUS:CONFIRMED
SUMMARY:2023년 법인 정기 총회
TRANSP:TRANSPARENT
END:VEVENT
END:VCALENDAR
