BEGIN:VCALENDAR
PRODID:PlannerXE123
VERSION:2.0
CALSCALE:GREGORIAN
METHOD:PUBLISH
BEGIN:VEVENT
DTSTART:20230211
DTEND:20230212
DTSTAMP:20260420T045858Z
UID:(thehamwith.kr_558)
CREATED:20260420T045858Z
DESCRIPTION:2023년 법인 정기 이사회 날입니다.\n\n<a href="http://thehamwith.kr/board_UUqF55/558?iCal=ics_event&document_srl=558">원본일정</a>
LOCATION:
SEQUENCE:1
STATUS:CONFIRMED
SUMMARY:2023년 법인 정기 이사회
TRANSP:TRANSPARENT
END:VEVENT
END:VCALENDAR
